BEGIN:VCALENDAR
VERSION:2.0
PRODID:-//LINK Kollel - ECPv6.15.20//NONSGML v1.0//EN
CALSCALE:GREGORIAN
METHOD:PUBLISH
X-WR-CALNAME:LINK Kollel
X-ORIGINAL-URL:https://linkla.org
X-WR-CALDESC:Events for LINK Kollel
REFRESH-INTERVAL;VALUE=DURATION:PT1H
X-Robots-Tag:noindex
X-PUBLISHED-TTL:PT1H
BEGIN:VTIMEZONE
TZID:UTC
BEGIN:STANDARD
TZOFFSETFROM:+0000
TZOFFSETTO:+0000
TZNAME:UTC
DTSTART:20250101T000000
END:STANDARD
END:VTIMEZONE
BEGIN:VEVENT
DTSTART;TZID=UTC:20260903T215500
DTEND;TZID=UTC:20260903T223000
DTSTAMP:20260422T215620
CREATED:20221227T200526Z
LAST-MODIFIED:20240522T205955Z
UID:10000745-1788472500-1788474600@linkla.org
SUMMARY:Parsha N' Chulent
DESCRIPTION:
URL:https://linkla.org/event/parsha-and-chulent/2026-09-03/
LOCATION:LINK Kollel\, 8666 W. Pico Blvd\, LOS ANGELES\, CA\, 90035\, United States
ATTACH;FMTTYPE=image/jpeg:https://linkla.org/wp-content/uploads/2022/03/IMG-20211019-WA0000.jpg
END:VEVENT
BEGIN:VEVENT
DTSTART;TZID=UTC:20260910T215500
DTEND;TZID=UTC:20260910T223000
DTSTAMP:20260422T215620
CREATED:20221227T200526Z
LAST-MODIFIED:20240522T205955Z
UID:10000746-1789077300-1789079400@linkla.org
SUMMARY:Parsha N' Chulent
DESCRIPTION:
URL:https://linkla.org/event/parsha-and-chulent/2026-09-10/
LOCATION:LINK Kollel\, 8666 W. Pico Blvd\, LOS ANGELES\, CA\, 90035\, United States
ATTACH;FMTTYPE=image/jpeg:https://linkla.org/wp-content/uploads/2022/03/IMG-20211019-WA0000.jpg
END:VEVENT
BEGIN:VEVENT
DTSTART;TZID=UTC:20260917T215500
DTEND;TZID=UTC:20260917T223000
DTSTAMP:20260422T215620
CREATED:20221227T200526Z
LAST-MODIFIED:20240522T205955Z
UID:10000747-1789682100-1789684200@linkla.org
SUMMARY:Parsha N' Chulent
DESCRIPTION:
URL:https://linkla.org/event/parsha-and-chulent/2026-09-17/
LOCATION:LINK Kollel\, 8666 W. Pico Blvd\, LOS ANGELES\, CA\, 90035\, United States
ATTACH;FMTTYPE=image/jpeg:https://linkla.org/wp-content/uploads/2022/03/IMG-20211019-WA0000.jpg
END:VEVENT
BEGIN:VEVENT
DTSTART;TZID=UTC:20260924T215500
DTEND;TZID=UTC:20260924T223000
DTSTAMP:20260422T215620
CREATED:20221227T200526Z
LAST-MODIFIED:20240522T205955Z
UID:10000748-1790286900-1790289000@linkla.org
SUMMARY:Parsha N' Chulent
DESCRIPTION:
URL:https://linkla.org/event/parsha-and-chulent/2026-09-24/
LOCATION:LINK Kollel\, 8666 W. Pico Blvd\, LOS ANGELES\, CA\, 90035\, United States
ATTACH;FMTTYPE=image/jpeg:https://linkla.org/wp-content/uploads/2022/03/IMG-20211019-WA0000.jpg
END:VEVENT
END:VCALENDAR