BEGIN:VCALENDAR
VERSION:2.0
PRODID:-//LINK Kollel - ECPv6.15.20//NONSGML v1.0//EN
CALSCALE:GREGORIAN
METHOD:PUBLISH
X-WR-CALNAME:LINK Kollel
X-ORIGINAL-URL:https://linkla.org
X-WR-CALDESC:Events for LINK Kollel
REFRESH-INTERVAL;VALUE=DURATION:PT1H
X-Robots-Tag:noindex
X-PUBLISHED-TTL:PT1H
BEGIN:VTIMEZONE
TZID:UTC
BEGIN:STANDARD
TZOFFSETFROM:+0000
TZOFFSETTO:+0000
TZNAME:UTC
DTSTART:20260101T000000
END:STANDARD
END:VTIMEZONE
BEGIN:VEVENT
DTSTART;TZID=UTC:20270401T215500
DTEND;TZID=UTC:20270401T223000
DTSTAMP:20260422T225542
CREATED:20221227T200526Z
LAST-MODIFIED:20240522T205955Z
UID:10000775-1806616500-1806618600@linkla.org
SUMMARY:Parsha N' Chulent
DESCRIPTION:
URL:https://linkla.org/event/parsha-and-chulent/2027-04-01/
LOCATION:LINK Kollel\, 8666 W. Pico Blvd\, LOS ANGELES\, CA\, 90035\, United States
ATTACH;FMTTYPE=image/jpeg:https://linkla.org/wp-content/uploads/2022/03/IMG-20211019-WA0000.jpg
END:VEVENT
BEGIN:VEVENT
DTSTART;TZID=UTC:20270408T215500
DTEND;TZID=UTC:20270408T223000
DTSTAMP:20260422T225542
CREATED:20221227T200526Z
LAST-MODIFIED:20240522T205955Z
UID:10000776-1807221300-1807223400@linkla.org
SUMMARY:Parsha N' Chulent
DESCRIPTION:
URL:https://linkla.org/event/parsha-and-chulent/2027-04-08/
LOCATION:LINK Kollel\, 8666 W. Pico Blvd\, LOS ANGELES\, CA\, 90035\, United States
ATTACH;FMTTYPE=image/jpeg:https://linkla.org/wp-content/uploads/2022/03/IMG-20211019-WA0000.jpg
END:VEVENT
BEGIN:VEVENT
DTSTART;TZID=UTC:20270415T215500
DTEND;TZID=UTC:20270415T223000
DTSTAMP:20260422T225542
CREATED:20221227T200526Z
LAST-MODIFIED:20240522T205955Z
UID:10000777-1807826100-1807828200@linkla.org
SUMMARY:Parsha N' Chulent
DESCRIPTION:
URL:https://linkla.org/event/parsha-and-chulent/2027-04-15/
LOCATION:LINK Kollel\, 8666 W. Pico Blvd\, LOS ANGELES\, CA\, 90035\, United States
ATTACH;FMTTYPE=image/jpeg:https://linkla.org/wp-content/uploads/2022/03/IMG-20211019-WA0000.jpg
END:VEVENT
BEGIN:VEVENT
DTSTART;TZID=UTC:20270422T215500
DTEND;TZID=UTC:20270422T223000
DTSTAMP:20260422T225542
CREATED:20221227T200526Z
LAST-MODIFIED:20240522T205955Z
UID:10000778-1808430900-1808433000@linkla.org
SUMMARY:Parsha N' Chulent
DESCRIPTION:
URL:https://linkla.org/event/parsha-and-chulent/2027-04-22/
LOCATION:LINK Kollel\, 8666 W. Pico Blvd\, LOS ANGELES\, CA\, 90035\, United States
ATTACH;FMTTYPE=image/jpeg:https://linkla.org/wp-content/uploads/2022/03/IMG-20211019-WA0000.jpg
END:VEVENT
BEGIN:VEVENT
DTSTART;TZID=UTC:20270429T215500
DTEND;TZID=UTC:20270429T223000
DTSTAMP:20260422T225542
CREATED:20221227T200526Z
LAST-MODIFIED:20240522T205955Z
UID:10000779-1809035700-1809037800@linkla.org
SUMMARY:Parsha N' Chulent
DESCRIPTION:
URL:https://linkla.org/event/parsha-and-chulent/2027-04-29/
LOCATION:LINK Kollel\, 8666 W. Pico Blvd\, LOS ANGELES\, CA\, 90035\, United States
ATTACH;FMTTYPE=image/jpeg:https://linkla.org/wp-content/uploads/2022/03/IMG-20211019-WA0000.jpg
END:VEVENT
BEGIN:VEVENT
DTSTART;TZID=UTC:20270506T215500
DTEND;TZID=UTC:20270506T223000
DTSTAMP:20260422T225542
CREATED:20221227T200526Z
LAST-MODIFIED:20240522T205955Z
UID:10000780-1809640500-1809642600@linkla.org
SUMMARY:Parsha N' Chulent
DESCRIPTION:
URL:https://linkla.org/event/parsha-and-chulent/2027-05-06/
LOCATION:LINK Kollel\, 8666 W. Pico Blvd\, LOS ANGELES\, CA\, 90035\, United States
ATTACH;FMTTYPE=image/jpeg:https://linkla.org/wp-content/uploads/2022/03/IMG-20211019-WA0000.jpg
END:VEVENT
BEGIN:VEVENT
DTSTART;TZID=UTC:20270513T215500
DTEND;TZID=UTC:20270513T223000
DTSTAMP:20260422T225542
CREATED:20221227T200526Z
LAST-MODIFIED:20240522T205955Z
UID:10000781-1810245300-1810247400@linkla.org
SUMMARY:Parsha N' Chulent
DESCRIPTION:
URL:https://linkla.org/event/parsha-and-chulent/2027-05-13/
LOCATION:LINK Kollel\, 8666 W. Pico Blvd\, LOS ANGELES\, CA\, 90035\, United States
ATTACH;FMTTYPE=image/jpeg:https://linkla.org/wp-content/uploads/2022/03/IMG-20211019-WA0000.jpg
END:VEVENT
BEGIN:VEVENT
DTSTART;TZID=UTC:20270520T215500
DTEND;TZID=UTC:20270520T223000
DTSTAMP:20260422T225542
CREATED:20221227T200526Z
LAST-MODIFIED:20240522T205955Z
UID:10000782-1810850100-1810852200@linkla.org
SUMMARY:Parsha N' Chulent
DESCRIPTION:
URL:https://linkla.org/event/parsha-and-chulent/2027-05-20/
LOCATION:LINK Kollel\, 8666 W. Pico Blvd\, LOS ANGELES\, CA\, 90035\, United States
ATTACH;FMTTYPE=image/jpeg:https://linkla.org/wp-content/uploads/2022/03/IMG-20211019-WA0000.jpg
END:VEVENT
BEGIN:VEVENT
DTSTART;TZID=UTC:20270527T215500
DTEND;TZID=UTC:20270527T223000
DTSTAMP:20260422T225542
CREATED:20221227T200526Z
LAST-MODIFIED:20240522T205955Z
UID:10000783-1811454900-1811457000@linkla.org
SUMMARY:Parsha N' Chulent
DESCRIPTION:
URL:https://linkla.org/event/parsha-and-chulent/2027-05-27/
LOCATION:LINK Kollel\, 8666 W. Pico Blvd\, LOS ANGELES\, CA\, 90035\, United States
ATTACH;FMTTYPE=image/jpeg:https://linkla.org/wp-content/uploads/2022/03/IMG-20211019-WA0000.jpg
END:VEVENT
BEGIN:VEVENT
DTSTART;TZID=UTC:20270603T215500
DTEND;TZID=UTC:20270603T223000
DTSTAMP:20260422T225542
CREATED:20221227T200526Z
LAST-MODIFIED:20240522T205955Z
UID:10000784-1812059700-1812061800@linkla.org
SUMMARY:Parsha N' Chulent
DESCRIPTION:
URL:https://linkla.org/event/parsha-and-chulent/2027-06-03/
LOCATION:LINK Kollel\, 8666 W. Pico Blvd\, LOS ANGELES\, CA\, 90035\, United States
ATTACH;FMTTYPE=image/jpeg:https://linkla.org/wp-content/uploads/2022/03/IMG-20211019-WA0000.jpg
END:VEVENT
BEGIN:VEVENT
DTSTART;TZID=UTC:20270610T215500
DTEND;TZID=UTC:20270610T223000
DTSTAMP:20260422T225542
CREATED:20221227T200526Z
LAST-MODIFIED:20240522T205955Z
UID:10000785-1812664500-1812666600@linkla.org
SUMMARY:Parsha N' Chulent
DESCRIPTION:
URL:https://linkla.org/event/parsha-and-chulent/2027-06-10/
LOCATION:LINK Kollel\, 8666 W. Pico Blvd\, LOS ANGELES\, CA\, 90035\, United States
ATTACH;FMTTYPE=image/jpeg:https://linkla.org/wp-content/uploads/2022/03/IMG-20211019-WA0000.jpg
END:VEVENT
BEGIN:VEVENT
DTSTART;TZID=UTC:20270617T215500
DTEND;TZID=UTC:20270617T223000
DTSTAMP:20260422T225542
CREATED:20221227T200526Z
LAST-MODIFIED:20240522T205955Z
UID:10000786-1813269300-1813271400@linkla.org
SUMMARY:Parsha N' Chulent
DESCRIPTION:
URL:https://linkla.org/event/parsha-and-chulent/2027-06-17/
LOCATION:LINK Kollel\, 8666 W. Pico Blvd\, LOS ANGELES\, CA\, 90035\, United States
ATTACH;FMTTYPE=image/jpeg:https://linkla.org/wp-content/uploads/2022/03/IMG-20211019-WA0000.jpg
END:VEVENT
BEGIN:VEVENT
DTSTART;TZID=UTC:20270624T215500
DTEND;TZID=UTC:20270624T223000
DTSTAMP:20260422T225542
CREATED:20221227T200526Z
LAST-MODIFIED:20240522T205955Z
UID:10000787-1813874100-1813876200@linkla.org
SUMMARY:Parsha N' Chulent
DESCRIPTION:
URL:https://linkla.org/event/parsha-and-chulent/2027-06-24/
LOCATION:LINK Kollel\, 8666 W. Pico Blvd\, LOS ANGELES\, CA\, 90035\, United States
ATTACH;FMTTYPE=image/jpeg:https://linkla.org/wp-content/uploads/2022/03/IMG-20211019-WA0000.jpg
END:VEVENT
BEGIN:VEVENT
DTSTART;TZID=UTC:20270701T215500
DTEND;TZID=UTC:20270701T223000
DTSTAMP:20260422T225542
CREATED:20221227T200526Z
LAST-MODIFIED:20240522T205955Z
UID:10000788-1814478900-1814481000@linkla.org
SUMMARY:Parsha N' Chulent
DESCRIPTION:
URL:https://linkla.org/event/parsha-and-chulent/2027-07-01/
LOCATION:LINK Kollel\, 8666 W. Pico Blvd\, LOS ANGELES\, CA\, 90035\, United States
ATTACH;FMTTYPE=image/jpeg:https://linkla.org/wp-content/uploads/2022/03/IMG-20211019-WA0000.jpg
END:VEVENT
BEGIN:VEVENT
DTSTART;TZID=UTC:20270708T215500
DTEND;TZID=UTC:20270708T223000
DTSTAMP:20260422T225542
CREATED:20221227T200526Z
LAST-MODIFIED:20240522T205955Z
UID:10000789-1815083700-1815085800@linkla.org
SUMMARY:Parsha N' Chulent
DESCRIPTION:
URL:https://linkla.org/event/parsha-and-chulent/2027-07-08/
LOCATION:LINK Kollel\, 8666 W. Pico Blvd\, LOS ANGELES\, CA\, 90035\, United States
ATTACH;FMTTYPE=image/jpeg:https://linkla.org/wp-content/uploads/2022/03/IMG-20211019-WA0000.jpg
END:VEVENT
BEGIN:VEVENT
DTSTART;TZID=UTC:20270715T215500
DTEND;TZID=UTC:20270715T223000
DTSTAMP:20260422T225542
CREATED:20221227T200526Z
LAST-MODIFIED:20240522T205955Z
UID:10000790-1815688500-1815690600@linkla.org
SUMMARY:Parsha N' Chulent
DESCRIPTION:
URL:https://linkla.org/event/parsha-and-chulent/2027-07-15/
LOCATION:LINK Kollel\, 8666 W. Pico Blvd\, LOS ANGELES\, CA\, 90035\, United States
ATTACH;FMTTYPE=image/jpeg:https://linkla.org/wp-content/uploads/2022/03/IMG-20211019-WA0000.jpg
END:VEVENT
BEGIN:VEVENT
DTSTART;TZID=UTC:20270722T215500
DTEND;TZID=UTC:20270722T223000
DTSTAMP:20260422T225542
CREATED:20221227T200526Z
LAST-MODIFIED:20240522T205955Z
UID:10000791-1816293300-1816295400@linkla.org
SUMMARY:Parsha N' Chulent
DESCRIPTION:
URL:https://linkla.org/event/parsha-and-chulent/2027-07-22/
LOCATION:LINK Kollel\, 8666 W. Pico Blvd\, LOS ANGELES\, CA\, 90035\, United States
ATTACH;FMTTYPE=image/jpeg:https://linkla.org/wp-content/uploads/2022/03/IMG-20211019-WA0000.jpg
END:VEVENT
BEGIN:VEVENT
DTSTART;TZID=UTC:20270729T215500
DTEND;TZID=UTC:20270729T223000
DTSTAMP:20260422T225542
CREATED:20221227T200526Z
LAST-MODIFIED:20240522T205955Z
UID:10000792-1816898100-1816900200@linkla.org
SUMMARY:Parsha N' Chulent
DESCRIPTION:
URL:https://linkla.org/event/parsha-and-chulent/2027-07-29/
LOCATION:LINK Kollel\, 8666 W. Pico Blvd\, LOS ANGELES\, CA\, 90035\, United States
ATTACH;FMTTYPE=image/jpeg:https://linkla.org/wp-content/uploads/2022/03/IMG-20211019-WA0000.jpg
END:VEVENT
BEGIN:VEVENT
DTSTART;TZID=UTC:20270805T215500
DTEND;TZID=UTC:20270805T223000
DTSTAMP:20260422T225542
CREATED:20221227T200526Z
LAST-MODIFIED:20240522T205955Z
UID:10000793-1817502900-1817505000@linkla.org
SUMMARY:Parsha N' Chulent
DESCRIPTION:
URL:https://linkla.org/event/parsha-and-chulent/2027-08-05/
LOCATION:LINK Kollel\, 8666 W. Pico Blvd\, LOS ANGELES\, CA\, 90035\, United States
ATTACH;FMTTYPE=image/jpeg:https://linkla.org/wp-content/uploads/2022/03/IMG-20211019-WA0000.jpg
END:VEVENT
BEGIN:VEVENT
DTSTART;TZID=UTC:20270812T215500
DTEND;TZID=UTC:20270812T223000
DTSTAMP:20260422T225542
CREATED:20221227T200526Z
LAST-MODIFIED:20240522T205955Z
UID:10000794-1818107700-1818109800@linkla.org
SUMMARY:Parsha N' Chulent
DESCRIPTION:
URL:https://linkla.org/event/parsha-and-chulent/2027-08-12/
LOCATION:LINK Kollel\, 8666 W. Pico Blvd\, LOS ANGELES\, CA\, 90035\, United States
ATTACH;FMTTYPE=image/jpeg:https://linkla.org/wp-content/uploads/2022/03/IMG-20211019-WA0000.jpg
END:VEVENT
BEGIN:VEVENT
DTSTART;TZID=UTC:20270819T215500
DTEND;TZID=UTC:20270819T223000
DTSTAMP:20260422T225542
CREATED:20221227T200526Z
LAST-MODIFIED:20240522T205955Z
UID:10000795-1818712500-1818714600@linkla.org
SUMMARY:Parsha N' Chulent
DESCRIPTION:
URL:https://linkla.org/event/parsha-and-chulent/2027-08-19/
LOCATION:LINK Kollel\, 8666 W. Pico Blvd\, LOS ANGELES\, CA\, 90035\, United States
ATTACH;FMTTYPE=image/jpeg:https://linkla.org/wp-content/uploads/2022/03/IMG-20211019-WA0000.jpg
END:VEVENT
BEGIN:VEVENT
DTSTART;TZID=UTC:20270826T215500
DTEND;TZID=UTC:20270826T223000
DTSTAMP:20260422T225542
CREATED:20221227T200526Z
LAST-MODIFIED:20240522T205955Z
UID:10000796-1819317300-1819319400@linkla.org
SUMMARY:Parsha N' Chulent
DESCRIPTION:
URL:https://linkla.org/event/parsha-and-chulent/2027-08-26/
LOCATION:LINK Kollel\, 8666 W. Pico Blvd\, LOS ANGELES\, CA\, 90035\, United States
ATTACH;FMTTYPE=image/jpeg:https://linkla.org/wp-content/uploads/2022/03/IMG-20211019-WA0000.jpg
END:VEVENT
BEGIN:VEVENT
DTSTART;TZID=UTC:20270902T215500
DTEND;TZID=UTC:20270902T223000
DTSTAMP:20260422T225542
CREATED:20221227T200526Z
LAST-MODIFIED:20240522T205955Z
UID:10000797-1819922100-1819924200@linkla.org
SUMMARY:Parsha N' Chulent
DESCRIPTION:
URL:https://linkla.org/event/parsha-and-chulent/2027-09-02/
LOCATION:LINK Kollel\, 8666 W. Pico Blvd\, LOS ANGELES\, CA\, 90035\, United States
ATTACH;FMTTYPE=image/jpeg:https://linkla.org/wp-content/uploads/2022/03/IMG-20211019-WA0000.jpg
END:VEVENT
BEGIN:VEVENT
DTSTART;TZID=UTC:20270909T215500
DTEND;TZID=UTC:20270909T223000
DTSTAMP:20260422T225542
CREATED:20221227T200526Z
LAST-MODIFIED:20240522T205955Z
UID:10000798-1820526900-1820529000@linkla.org
SUMMARY:Parsha N' Chulent
DESCRIPTION:
URL:https://linkla.org/event/parsha-and-chulent/2027-09-09/
LOCATION:LINK Kollel\, 8666 W. Pico Blvd\, LOS ANGELES\, CA\, 90035\, United States
ATTACH;FMTTYPE=image/jpeg:https://linkla.org/wp-content/uploads/2022/03/IMG-20211019-WA0000.jpg
END:VEVENT
BEGIN:VEVENT
DTSTART;TZID=UTC:20270916T215500
DTEND;TZID=UTC:20270916T223000
DTSTAMP:20260422T225542
CREATED:20221227T200526Z
LAST-MODIFIED:20240522T205955Z
UID:10000799-1821131700-1821133800@linkla.org
SUMMARY:Parsha N' Chulent
DESCRIPTION:
URL:https://linkla.org/event/parsha-and-chulent/2027-09-16/
LOCATION:LINK Kollel\, 8666 W. Pico Blvd\, LOS ANGELES\, CA\, 90035\, United States
ATTACH;FMTTYPE=image/jpeg:https://linkla.org/wp-content/uploads/2022/03/IMG-20211019-WA0000.jpg
END:VEVENT
BEGIN:VEVENT
DTSTART;TZID=UTC:20270923T215500
DTEND;TZID=UTC:20270923T223000
DTSTAMP:20260422T225542
CREATED:20221227T200526Z
LAST-MODIFIED:20240522T205955Z
UID:10000800-1821736500-1821738600@linkla.org
SUMMARY:Parsha N' Chulent
DESCRIPTION:
URL:https://linkla.org/event/parsha-and-chulent/2027-09-23/
LOCATION:LINK Kollel\, 8666 W. Pico Blvd\, LOS ANGELES\, CA\, 90035\, United States
ATTACH;FMTTYPE=image/jpeg:https://linkla.org/wp-content/uploads/2022/03/IMG-20211019-WA0000.jpg
END:VEVENT
BEGIN:VEVENT
DTSTART;TZID=UTC:20270930T215500
DTEND;TZID=UTC:20270930T223000
DTSTAMP:20260422T225542
CREATED:20221227T200526Z
LAST-MODIFIED:20240522T205955Z
UID:10000801-1822341300-1822343400@linkla.org
SUMMARY:Parsha N' Chulent
DESCRIPTION:
URL:https://linkla.org/event/parsha-and-chulent/2027-09-30/
LOCATION:LINK Kollel\, 8666 W. Pico Blvd\, LOS ANGELES\, CA\, 90035\, United States
ATTACH;FMTTYPE=image/jpeg:https://linkla.org/wp-content/uploads/2022/03/IMG-20211019-WA0000.jpg
END:VEVENT
BEGIN:VEVENT
DTSTART;TZID=UTC:20271007T215500
DTEND;TZID=UTC:20271007T223000
DTSTAMP:20260422T225542
CREATED:20221227T200526Z
LAST-MODIFIED:20240522T205955Z
UID:10000802-1822946100-1822948200@linkla.org
SUMMARY:Parsha N' Chulent
DESCRIPTION:
URL:https://linkla.org/event/parsha-and-chulent/2027-10-07/
LOCATION:LINK Kollel\, 8666 W. Pico Blvd\, LOS ANGELES\, CA\, 90035\, United States
ATTACH;FMTTYPE=image/jpeg:https://linkla.org/wp-content/uploads/2022/03/IMG-20211019-WA0000.jpg
END:VEVENT
BEGIN:VEVENT
DTSTART;TZID=UTC:20271014T215500
DTEND;TZID=UTC:20271014T223000
DTSTAMP:20260422T225542
CREATED:20221227T200526Z
LAST-MODIFIED:20240522T205955Z
UID:10000803-1823550900-1823553000@linkla.org
SUMMARY:Parsha N' Chulent
DESCRIPTION:
URL:https://linkla.org/event/parsha-and-chulent/2027-10-14/
LOCATION:LINK Kollel\, 8666 W. Pico Blvd\, LOS ANGELES\, CA\, 90035\, United States
ATTACH;FMTTYPE=image/jpeg:https://linkla.org/wp-content/uploads/2022/03/IMG-20211019-WA0000.jpg
END:VEVENT
BEGIN:VEVENT
DTSTART;TZID=UTC:20271021T215500
DTEND;TZID=UTC:20271021T223000
DTSTAMP:20260422T225542
CREATED:20221227T200526Z
LAST-MODIFIED:20240522T205955Z
UID:10000804-1824155700-1824157800@linkla.org
SUMMARY:Parsha N' Chulent
DESCRIPTION:
URL:https://linkla.org/event/parsha-and-chulent/2027-10-21/
LOCATION:LINK Kollel\, 8666 W. Pico Blvd\, LOS ANGELES\, CA\, 90035\, United States
ATTACH;FMTTYPE=image/jpeg:https://linkla.org/wp-content/uploads/2022/03/IMG-20211019-WA0000.jpg
END:VEVENT
END:VCALENDAR