BEGIN:VCALENDAR
VERSION:2.0
PRODID:-//LINK Kollel - ECPv6.15.20//NONSGML v1.0//EN
CALSCALE:GREGORIAN
METHOD:PUBLISH
X-WR-CALNAME:LINK Kollel
X-ORIGINAL-URL:https://linkla.org
X-WR-CALDESC:Events for LINK Kollel
REFRESH-INTERVAL;VALUE=DURATION:PT1H
X-Robots-Tag:noindex
X-PUBLISHED-TTL:PT1H
BEGIN:VTIMEZONE
TZID:UTC
BEGIN:STANDARD
TZOFFSETFROM:+0000
TZOFFSETTO:+0000
TZNAME:UTC
DTSTART:20240101T000000
END:STANDARD
END:VTIMEZONE
BEGIN:VEVENT
DTSTART;TZID=UTC:20250610T190000
DTEND;TZID=UTC:20250610T194000
DTSTAMP:20260423T012041
CREATED:20221227T200212Z
LAST-MODIFIED:20250205T012459Z
UID:10000938-1749582000-1749584400@linkla.org
SUMMARY:Boys Torah Night
DESCRIPTION:
URL:https://linkla.org/event/boys-torah-night/2025-06-10/
LOCATION:LINK Kollel\, 8666 W. Pico Blvd\, LOS ANGELES\, CA\, 90035\, United States
CATEGORIES:Recurring Programs and Classes
ATTACH;FMTTYPE=image/jpeg:https://linkla.org/wp-content/uploads/2022/12/2022.Torah-Night.jpeg
END:VEVENT
BEGIN:VEVENT
DTSTART;TZID=UTC:20250605T215500
DTEND;TZID=UTC:20250605T223000
DTSTAMP:20260423T012041
CREATED:20221227T200526Z
LAST-MODIFIED:20240522T205955Z
UID:10000680-1749160500-1749162600@linkla.org
SUMMARY:Parsha N' Chulent
DESCRIPTION:
URL:https://linkla.org/event/parsha-and-chulent/2025-06-05/
LOCATION:LINK Kollel\, 8666 W. Pico Blvd\, LOS ANGELES\, CA\, 90035\, United States
ATTACH;FMTTYPE=image/jpeg:https://linkla.org/wp-content/uploads/2022/03/IMG-20211019-WA0000.jpg
END:VEVENT
BEGIN:VEVENT
DTSTART;TZID=UTC:20250605T190000
DTEND;TZID=UTC:20250605T194000
DTSTAMP:20260423T012041
CREATED:20221227T200212Z
LAST-MODIFIED:20250205T012459Z
UID:10000937-1749150000-1749152400@linkla.org
SUMMARY:Boys Torah Night
DESCRIPTION:
URL:https://linkla.org/event/boys-torah-night/2025-06-05/
LOCATION:LINK Kollel\, 8666 W. Pico Blvd\, LOS ANGELES\, CA\, 90035\, United States
CATEGORIES:Recurring Programs and Classes
ATTACH;FMTTYPE=image/jpeg:https://linkla.org/wp-content/uploads/2022/12/2022.Torah-Night.jpeg
END:VEVENT
BEGIN:VEVENT
DTSTART;TZID=UTC:20250603T190000
DTEND;TZID=UTC:20250603T194000
DTSTAMP:20260423T012041
CREATED:20221227T200212Z
LAST-MODIFIED:20250205T012459Z
UID:10000936-1748977200-1748979600@linkla.org
SUMMARY:Boys Torah Night
DESCRIPTION:
URL:https://linkla.org/event/boys-torah-night/2025-06-03/
LOCATION:LINK Kollel\, 8666 W. Pico Blvd\, LOS ANGELES\, CA\, 90035\, United States
CATEGORIES:Recurring Programs and Classes
ATTACH;FMTTYPE=image/jpeg:https://linkla.org/wp-content/uploads/2022/12/2022.Torah-Night.jpeg
END:VEVENT
BEGIN:VEVENT
DTSTART;TZID=UTC:20250529T215500
DTEND;TZID=UTC:20250529T223000
DTSTAMP:20260423T012041
CREATED:20221227T200526Z
LAST-MODIFIED:20240522T205955Z
UID:10000679-1748555700-1748557800@linkla.org
SUMMARY:Parsha N' Chulent
DESCRIPTION:
URL:https://linkla.org/event/parsha-and-chulent/2025-05-29/
LOCATION:LINK Kollel\, 8666 W. Pico Blvd\, LOS ANGELES\, CA\, 90035\, United States
ATTACH;FMTTYPE=image/jpeg:https://linkla.org/wp-content/uploads/2022/03/IMG-20211019-WA0000.jpg
END:VEVENT
BEGIN:VEVENT
DTSTART;TZID=UTC:20250529T190000
DTEND;TZID=UTC:20250529T194000
DTSTAMP:20260423T012041
CREATED:20221227T200212Z
LAST-MODIFIED:20250205T012459Z
UID:10000935-1748545200-1748547600@linkla.org
SUMMARY:Boys Torah Night
DESCRIPTION:
URL:https://linkla.org/event/boys-torah-night/2025-05-29/
LOCATION:LINK Kollel\, 8666 W. Pico Blvd\, LOS ANGELES\, CA\, 90035\, United States
CATEGORIES:Recurring Programs and Classes
ATTACH;FMTTYPE=image/jpeg:https://linkla.org/wp-content/uploads/2022/12/2022.Torah-Night.jpeg
END:VEVENT
BEGIN:VEVENT
DTSTART;TZID=UTC:20250527T193000
DTEND;TZID=UTC:20250527T213000
DTSTAMP:20260423T012041
CREATED:20250507T175826Z
LAST-MODIFIED:20250507T175839Z
UID:10000944-1748374200-1748381400@linkla.org
SUMMARY:Farewell Gala - Rabbi Eli & Robin Stern
DESCRIPTION:Address provided upon RSVP. Click here to RSVP.
URL:https://linkla.org/event/farewell-gala-rabbi-eli-robin-stern/
LOCATION:CA
CATEGORIES:Special Events
ATTACH;FMTTYPE=image/jpeg:https://linkla.org/wp-content/uploads/2025/05/LINK-Stern-Farewell-Event-Invite.jpg
END:VEVENT
BEGIN:VEVENT
DTSTART;TZID=UTC:20250527T190000
DTEND;TZID=UTC:20250527T194000
DTSTAMP:20260423T012041
CREATED:20221227T200212Z
LAST-MODIFIED:20250205T012459Z
UID:10000934-1748372400-1748374800@linkla.org
SUMMARY:Boys Torah Night
DESCRIPTION:
URL:https://linkla.org/event/boys-torah-night/2025-05-27/
LOCATION:LINK Kollel\, 8666 W. Pico Blvd\, LOS ANGELES\, CA\, 90035\, United States
CATEGORIES:Recurring Programs and Classes
ATTACH;FMTTYPE=image/jpeg:https://linkla.org/wp-content/uploads/2022/12/2022.Torah-Night.jpeg
END:VEVENT
BEGIN:VEVENT
DTSTART;TZID=UTC:20250522T215500
DTEND;TZID=UTC:20250522T223000
DTSTAMP:20260423T012041
CREATED:20221227T200526Z
LAST-MODIFIED:20240522T205955Z
UID:10000678-1747950900-1747953000@linkla.org
SUMMARY:Parsha N' Chulent
DESCRIPTION:
URL:https://linkla.org/event/parsha-and-chulent/2025-05-22/
LOCATION:LINK Kollel\, 8666 W. Pico Blvd\, LOS ANGELES\, CA\, 90035\, United States
ATTACH;FMTTYPE=image/jpeg:https://linkla.org/wp-content/uploads/2022/03/IMG-20211019-WA0000.jpg
END:VEVENT
BEGIN:VEVENT
DTSTART;TZID=UTC:20250522T190000
DTEND;TZID=UTC:20250522T194000
DTSTAMP:20260423T012041
CREATED:20221227T200212Z
LAST-MODIFIED:20250205T012459Z
UID:10000933-1747940400-1747942800@linkla.org
SUMMARY:Boys Torah Night
DESCRIPTION:
URL:https://linkla.org/event/boys-torah-night/2025-05-22/
LOCATION:LINK Kollel\, 8666 W. Pico Blvd\, LOS ANGELES\, CA\, 90035\, United States
CATEGORIES:Recurring Programs and Classes
ATTACH;FMTTYPE=image/jpeg:https://linkla.org/wp-content/uploads/2022/12/2022.Torah-Night.jpeg
END:VEVENT
BEGIN:VEVENT
DTSTART;TZID=UTC:20250520T190000
DTEND;TZID=UTC:20250520T194000
DTSTAMP:20260423T012041
CREATED:20221227T200212Z
LAST-MODIFIED:20250205T012459Z
UID:10000932-1747767600-1747770000@linkla.org
SUMMARY:Boys Torah Night
DESCRIPTION:
URL:https://linkla.org/event/boys-torah-night/2025-05-20/
LOCATION:LINK Kollel\, 8666 W. Pico Blvd\, LOS ANGELES\, CA\, 90035\, United States
CATEGORIES:Recurring Programs and Classes
ATTACH;FMTTYPE=image/jpeg:https://linkla.org/wp-content/uploads/2022/12/2022.Torah-Night.jpeg
END:VEVENT
BEGIN:VEVENT
DTSTART;TZID=UTC:20250515T215500
DTEND;TZID=UTC:20250515T223000
DTSTAMP:20260423T012041
CREATED:20221227T200526Z
LAST-MODIFIED:20240522T205955Z
UID:10000677-1747346100-1747348200@linkla.org
SUMMARY:Parsha N' Chulent
DESCRIPTION:
URL:https://linkla.org/event/parsha-and-chulent/2025-05-15/
LOCATION:LINK Kollel\, 8666 W. Pico Blvd\, LOS ANGELES\, CA\, 90035\, United States
ATTACH;FMTTYPE=image/jpeg:https://linkla.org/wp-content/uploads/2022/03/IMG-20211019-WA0000.jpg
END:VEVENT
BEGIN:VEVENT
DTSTART;TZID=UTC:20250515T190000
DTEND;TZID=UTC:20250515T194000
DTSTAMP:20260423T012041
CREATED:20221227T200212Z
LAST-MODIFIED:20250205T012459Z
UID:10000931-1747335600-1747338000@linkla.org
SUMMARY:Boys Torah Night
DESCRIPTION:
URL:https://linkla.org/event/boys-torah-night/2025-05-15/
LOCATION:LINK Kollel\, 8666 W. Pico Blvd\, LOS ANGELES\, CA\, 90035\, United States
CATEGORIES:Recurring Programs and Classes
ATTACH;FMTTYPE=image/jpeg:https://linkla.org/wp-content/uploads/2022/12/2022.Torah-Night.jpeg
END:VEVENT
BEGIN:VEVENT
DTSTART;TZID=UTC:20250513T190000
DTEND;TZID=UTC:20250513T194000
DTSTAMP:20260423T012041
CREATED:20221227T200212Z
LAST-MODIFIED:20250205T012459Z
UID:10000930-1747162800-1747165200@linkla.org
SUMMARY:Boys Torah Night
DESCRIPTION:
URL:https://linkla.org/event/boys-torah-night/2025-05-13/
LOCATION:LINK Kollel\, 8666 W. Pico Blvd\, LOS ANGELES\, CA\, 90035\, United States
CATEGORIES:Recurring Programs and Classes
ATTACH;FMTTYPE=image/jpeg:https://linkla.org/wp-content/uploads/2022/12/2022.Torah-Night.jpeg
END:VEVENT
BEGIN:VEVENT
DTSTART;TZID=UTC:20250508T215500
DTEND;TZID=UTC:20250508T223000
DTSTAMP:20260423T012041
CREATED:20221227T200526Z
LAST-MODIFIED:20240522T205955Z
UID:10000676-1746741300-1746743400@linkla.org
SUMMARY:Parsha N' Chulent
DESCRIPTION:
URL:https://linkla.org/event/parsha-and-chulent/2025-05-08/
LOCATION:LINK Kollel\, 8666 W. Pico Blvd\, LOS ANGELES\, CA\, 90035\, United States
ATTACH;FMTTYPE=image/jpeg:https://linkla.org/wp-content/uploads/2022/03/IMG-20211019-WA0000.jpg
END:VEVENT
BEGIN:VEVENT
DTSTART;TZID=UTC:20250508T190000
DTEND;TZID=UTC:20250508T194000
DTSTAMP:20260423T012041
CREATED:20221227T200212Z
LAST-MODIFIED:20250205T012459Z
UID:10000929-1746730800-1746733200@linkla.org
SUMMARY:Boys Torah Night
DESCRIPTION:
URL:https://linkla.org/event/boys-torah-night/2025-05-08/
LOCATION:LINK Kollel\, 8666 W. Pico Blvd\, LOS ANGELES\, CA\, 90035\, United States
CATEGORIES:Recurring Programs and Classes
ATTACH;FMTTYPE=image/jpeg:https://linkla.org/wp-content/uploads/2022/12/2022.Torah-Night.jpeg
END:VEVENT
BEGIN:VEVENT
DTSTART;TZID=UTC:20250506T190000
DTEND;TZID=UTC:20250506T194000
DTSTAMP:20260423T012041
CREATED:20221227T200212Z
LAST-MODIFIED:20250205T012459Z
UID:10000928-1746558000-1746560400@linkla.org
SUMMARY:Boys Torah Night
DESCRIPTION:
URL:https://linkla.org/event/boys-torah-night/2025-05-06/
LOCATION:LINK Kollel\, 8666 W. Pico Blvd\, LOS ANGELES\, CA\, 90035\, United States
CATEGORIES:Recurring Programs and Classes
ATTACH;FMTTYPE=image/jpeg:https://linkla.org/wp-content/uploads/2022/12/2022.Torah-Night.jpeg
END:VEVENT
BEGIN:VEVENT
DTSTART;TZID=UTC:20250501T215500
DTEND;TZID=UTC:20250501T223000
DTSTAMP:20260423T012041
CREATED:20221227T200526Z
LAST-MODIFIED:20240522T205955Z
UID:10000675-1746136500-1746138600@linkla.org
SUMMARY:Parsha N' Chulent
DESCRIPTION:
URL:https://linkla.org/event/parsha-and-chulent/2025-05-01/
LOCATION:LINK Kollel\, 8666 W. Pico Blvd\, LOS ANGELES\, CA\, 90035\, United States
ATTACH;FMTTYPE=image/jpeg:https://linkla.org/wp-content/uploads/2022/03/IMG-20211019-WA0000.jpg
END:VEVENT
BEGIN:VEVENT
DTSTART;TZID=UTC:20250501T190000
DTEND;TZID=UTC:20250501T194000
DTSTAMP:20260423T012041
CREATED:20221227T200212Z
LAST-MODIFIED:20250205T012459Z
UID:10000927-1746126000-1746128400@linkla.org
SUMMARY:Boys Torah Night
DESCRIPTION:
URL:https://linkla.org/event/boys-torah-night/2025-05-01/
LOCATION:LINK Kollel\, 8666 W. Pico Blvd\, LOS ANGELES\, CA\, 90035\, United States
CATEGORIES:Recurring Programs and Classes
ATTACH;FMTTYPE=image/jpeg:https://linkla.org/wp-content/uploads/2022/12/2022.Torah-Night.jpeg
END:VEVENT
BEGIN:VEVENT
DTSTART;TZID=UTC:20250429T190000
DTEND;TZID=UTC:20250429T194000
DTSTAMP:20260423T012041
CREATED:20221227T200212Z
LAST-MODIFIED:20250205T012459Z
UID:10000926-1745953200-1745955600@linkla.org
SUMMARY:Boys Torah Night
DESCRIPTION:
URL:https://linkla.org/event/boys-torah-night/2025-04-29/
LOCATION:LINK Kollel\, 8666 W. Pico Blvd\, LOS ANGELES\, CA\, 90035\, United States
CATEGORIES:Recurring Programs and Classes
ATTACH;FMTTYPE=image/jpeg:https://linkla.org/wp-content/uploads/2022/12/2022.Torah-Night.jpeg
END:VEVENT
BEGIN:VEVENT
DTSTART;TZID=UTC:20250424T215500
DTEND;TZID=UTC:20250424T223000
DTSTAMP:20260423T012041
CREATED:20221227T200526Z
LAST-MODIFIED:20240522T205955Z
UID:10000674-1745531700-1745533800@linkla.org
SUMMARY:Parsha N' Chulent
DESCRIPTION:
URL:https://linkla.org/event/parsha-and-chulent/2025-04-24/
LOCATION:LINK Kollel\, 8666 W. Pico Blvd\, LOS ANGELES\, CA\, 90035\, United States
ATTACH;FMTTYPE=image/jpeg:https://linkla.org/wp-content/uploads/2022/03/IMG-20211019-WA0000.jpg
END:VEVENT
BEGIN:VEVENT
DTSTART;TZID=UTC:20250424T190000
DTEND;TZID=UTC:20250424T194000
DTSTAMP:20260423T012041
CREATED:20221227T200212Z
LAST-MODIFIED:20250205T012459Z
UID:10000925-1745521200-1745523600@linkla.org
SUMMARY:Boys Torah Night
DESCRIPTION:
URL:https://linkla.org/event/boys-torah-night/2025-04-24/
LOCATION:LINK Kollel\, 8666 W. Pico Blvd\, LOS ANGELES\, CA\, 90035\, United States
CATEGORIES:Recurring Programs and Classes
ATTACH;FMTTYPE=image/jpeg:https://linkla.org/wp-content/uploads/2022/12/2022.Torah-Night.jpeg
END:VEVENT
BEGIN:VEVENT
DTSTART;TZID=UTC:20250422T190000
DTEND;TZID=UTC:20250422T194000
DTSTAMP:20260423T012041
CREATED:20221227T200212Z
LAST-MODIFIED:20250205T012459Z
UID:10000924-1745348400-1745350800@linkla.org
SUMMARY:Boys Torah Night
DESCRIPTION:
URL:https://linkla.org/event/boys-torah-night/2025-04-22/
LOCATION:LINK Kollel\, 8666 W. Pico Blvd\, LOS ANGELES\, CA\, 90035\, United States
CATEGORIES:Recurring Programs and Classes
ATTACH;FMTTYPE=image/jpeg:https://linkla.org/wp-content/uploads/2022/12/2022.Torah-Night.jpeg
END:VEVENT
BEGIN:VEVENT
DTSTART;TZID=UTC:20250417T215500
DTEND;TZID=UTC:20250417T223000
DTSTAMP:20260423T012041
CREATED:20221227T200526Z
LAST-MODIFIED:20240522T205955Z
UID:10000673-1744926900-1744929000@linkla.org
SUMMARY:Parsha N' Chulent
DESCRIPTION:
URL:https://linkla.org/event/parsha-and-chulent/2025-04-17/
LOCATION:LINK Kollel\, 8666 W. Pico Blvd\, LOS ANGELES\, CA\, 90035\, United States
ATTACH;FMTTYPE=image/jpeg:https://linkla.org/wp-content/uploads/2022/03/IMG-20211019-WA0000.jpg
END:VEVENT
BEGIN:VEVENT
DTSTART;TZID=UTC:20250417T190000
DTEND;TZID=UTC:20250417T194000
DTSTAMP:20260423T012041
CREATED:20221227T200212Z
LAST-MODIFIED:20250205T012459Z
UID:10000923-1744916400-1744918800@linkla.org
SUMMARY:Boys Torah Night
DESCRIPTION:
URL:https://linkla.org/event/boys-torah-night/2025-04-17/
LOCATION:LINK Kollel\, 8666 W. Pico Blvd\, LOS ANGELES\, CA\, 90035\, United States
CATEGORIES:Recurring Programs and Classes
ATTACH;FMTTYPE=image/jpeg:https://linkla.org/wp-content/uploads/2022/12/2022.Torah-Night.jpeg
END:VEVENT
BEGIN:VEVENT
DTSTART;TZID=UTC:20250415T190000
DTEND;TZID=UTC:20250415T194000
DTSTAMP:20260423T012041
CREATED:20221227T200212Z
LAST-MODIFIED:20250205T012459Z
UID:10000922-1744743600-1744746000@linkla.org
SUMMARY:Boys Torah Night
DESCRIPTION:
URL:https://linkla.org/event/boys-torah-night/2025-04-15/
LOCATION:LINK Kollel\, 8666 W. Pico Blvd\, LOS ANGELES\, CA\, 90035\, United States
CATEGORIES:Recurring Programs and Classes
ATTACH;FMTTYPE=image/jpeg:https://linkla.org/wp-content/uploads/2022/12/2022.Torah-Night.jpeg
END:VEVENT
BEGIN:VEVENT
DTSTART;TZID=UTC:20250410T215500
DTEND;TZID=UTC:20250410T223000
DTSTAMP:20260423T012041
CREATED:20221227T200526Z
LAST-MODIFIED:20240522T205955Z
UID:10000672-1744322100-1744324200@linkla.org
SUMMARY:Parsha N' Chulent
DESCRIPTION:
URL:https://linkla.org/event/parsha-and-chulent/2025-04-10/
LOCATION:LINK Kollel\, 8666 W. Pico Blvd\, LOS ANGELES\, CA\, 90035\, United States
ATTACH;FMTTYPE=image/jpeg:https://linkla.org/wp-content/uploads/2022/03/IMG-20211019-WA0000.jpg
END:VEVENT
BEGIN:VEVENT
DTSTART;TZID=UTC:20250410T190000
DTEND;TZID=UTC:20250410T194000
DTSTAMP:20260423T012041
CREATED:20221227T200212Z
LAST-MODIFIED:20250205T012459Z
UID:10000921-1744311600-1744314000@linkla.org
SUMMARY:Boys Torah Night
DESCRIPTION:
URL:https://linkla.org/event/boys-torah-night/2025-04-10/
LOCATION:LINK Kollel\, 8666 W. Pico Blvd\, LOS ANGELES\, CA\, 90035\, United States
CATEGORIES:Recurring Programs and Classes
ATTACH;FMTTYPE=image/jpeg:https://linkla.org/wp-content/uploads/2022/12/2022.Torah-Night.jpeg
END:VEVENT
BEGIN:VEVENT
DTSTART;TZID=UTC:20250408T190000
DTEND;TZID=UTC:20250408T194000
DTSTAMP:20260423T012041
CREATED:20221227T200212Z
LAST-MODIFIED:20250205T012459Z
UID:10000920-1744138800-1744141200@linkla.org
SUMMARY:Boys Torah Night
DESCRIPTION:
URL:https://linkla.org/event/boys-torah-night/2025-04-08/
LOCATION:LINK Kollel\, 8666 W. Pico Blvd\, LOS ANGELES\, CA\, 90035\, United States
CATEGORIES:Recurring Programs and Classes
ATTACH;FMTTYPE=image/jpeg:https://linkla.org/wp-content/uploads/2022/12/2022.Torah-Night.jpeg
END:VEVENT
BEGIN:VEVENT
DTSTART;TZID=UTC:20250403T215500
DTEND;TZID=UTC:20250403T223000
DTSTAMP:20260423T012041
CREATED:20221227T200526Z
LAST-MODIFIED:20240522T205955Z
UID:10000671-1743717300-1743719400@linkla.org
SUMMARY:Parsha N' Chulent
DESCRIPTION:
URL:https://linkla.org/event/parsha-and-chulent/2025-04-03/
LOCATION:LINK Kollel\, 8666 W. Pico Blvd\, LOS ANGELES\, CA\, 90035\, United States
ATTACH;FMTTYPE=image/jpeg:https://linkla.org/wp-content/uploads/2022/03/IMG-20211019-WA0000.jpg
END:VEVENT
END:VCALENDAR