BEGIN:VCALENDAR
VERSION:2.0
PRODID:-//LINK Kollel - ECPv6.15.20//NONSGML v1.0//EN
CALSCALE:GREGORIAN
METHOD:PUBLISH
X-WR-CALNAME:LINK Kollel
X-ORIGINAL-URL:https://linkla.org
X-WR-CALDESC:Events for LINK Kollel
REFRESH-INTERVAL;VALUE=DURATION:PT1H
X-Robots-Tag:noindex
X-PUBLISHED-TTL:PT1H
BEGIN:VTIMEZONE
TZID:UTC
BEGIN:STANDARD
TZOFFSETFROM:+0000
TZOFFSETTO:+0000
TZNAME:UTC
DTSTART:20240101T000000
END:STANDARD
END:VTIMEZONE
BEGIN:VEVENT
DTSTART;TZID=UTC:20251113T215500
DTEND;TZID=UTC:20251113T223000
DTSTAMP:20260422T222143
CREATED:20221227T200526Z
LAST-MODIFIED:20240522T205955Z
UID:10000703-1763070900-1763073000@linkla.org
SUMMARY:Parsha N' Chulent
DESCRIPTION:
URL:https://linkla.org/event/parsha-and-chulent/2025-11-13/
LOCATION:LINK Kollel\, 8666 W. Pico Blvd\, LOS ANGELES\, CA\, 90035\, United States
ATTACH;FMTTYPE=image/jpeg:https://linkla.org/wp-content/uploads/2022/03/IMG-20211019-WA0000.jpg
END:VEVENT
BEGIN:VEVENT
DTSTART;TZID=UTC:20251106T215500
DTEND;TZID=UTC:20251106T223000
DTSTAMP:20260422T222143
CREATED:20221227T200526Z
LAST-MODIFIED:20240522T205955Z
UID:10000702-1762466100-1762468200@linkla.org
SUMMARY:Parsha N' Chulent
DESCRIPTION:
URL:https://linkla.org/event/parsha-and-chulent/2025-11-06/
LOCATION:LINK Kollel\, 8666 W. Pico Blvd\, LOS ANGELES\, CA\, 90035\, United States
ATTACH;FMTTYPE=image/jpeg:https://linkla.org/wp-content/uploads/2022/03/IMG-20211019-WA0000.jpg
END:VEVENT
BEGIN:VEVENT
DTSTART;TZID=UTC:20251030T215500
DTEND;TZID=UTC:20251030T223000
DTSTAMP:20260422T222143
CREATED:20221227T200526Z
LAST-MODIFIED:20240522T205955Z
UID:10000701-1761861300-1761863400@linkla.org
SUMMARY:Parsha N' Chulent
DESCRIPTION:
URL:https://linkla.org/event/parsha-and-chulent/2025-10-30/
LOCATION:LINK Kollel\, 8666 W. Pico Blvd\, LOS ANGELES\, CA\, 90035\, United States
ATTACH;FMTTYPE=image/jpeg:https://linkla.org/wp-content/uploads/2022/03/IMG-20211019-WA0000.jpg
END:VEVENT
BEGIN:VEVENT
DTSTART;TZID=UTC:20251023T215500
DTEND;TZID=UTC:20251023T223000
DTSTAMP:20260422T222143
CREATED:20221227T200526Z
LAST-MODIFIED:20240522T205955Z
UID:10000700-1761256500-1761258600@linkla.org
SUMMARY:Parsha N' Chulent
DESCRIPTION:
URL:https://linkla.org/event/parsha-and-chulent/2025-10-23/
LOCATION:LINK Kollel\, 8666 W. Pico Blvd\, LOS ANGELES\, CA\, 90035\, United States
ATTACH;FMTTYPE=image/jpeg:https://linkla.org/wp-content/uploads/2022/03/IMG-20211019-WA0000.jpg
END:VEVENT
BEGIN:VEVENT
DTSTART;TZID=UTC:20251016T215500
DTEND;TZID=UTC:20251016T223000
DTSTAMP:20260422T222143
CREATED:20221227T200526Z
LAST-MODIFIED:20240522T205955Z
UID:10000699-1760651700-1760653800@linkla.org
SUMMARY:Parsha N' Chulent
DESCRIPTION:
URL:https://linkla.org/event/parsha-and-chulent/2025-10-16/
LOCATION:LINK Kollel\, 8666 W. Pico Blvd\, LOS ANGELES\, CA\, 90035\, United States
ATTACH;FMTTYPE=image/jpeg:https://linkla.org/wp-content/uploads/2022/03/IMG-20211019-WA0000.jpg
END:VEVENT
BEGIN:VEVENT
DTSTART;TZID=UTC:20251009T215500
DTEND;TZID=UTC:20251009T223000
DTSTAMP:20260422T222143
CREATED:20221227T200526Z
LAST-MODIFIED:20240522T205955Z
UID:10000698-1760046900-1760049000@linkla.org
SUMMARY:Parsha N' Chulent
DESCRIPTION:
URL:https://linkla.org/event/parsha-and-chulent/2025-10-09/
LOCATION:LINK Kollel\, 8666 W. Pico Blvd\, LOS ANGELES\, CA\, 90035\, United States
ATTACH;FMTTYPE=image/jpeg:https://linkla.org/wp-content/uploads/2022/03/IMG-20211019-WA0000.jpg
END:VEVENT
BEGIN:VEVENT
DTSTART;TZID=UTC:20251002T215500
DTEND;TZID=UTC:20251002T223000
DTSTAMP:20260422T222143
CREATED:20221227T200526Z
LAST-MODIFIED:20240522T205955Z
UID:10000697-1759442100-1759444200@linkla.org
SUMMARY:Parsha N' Chulent
DESCRIPTION:
URL:https://linkla.org/event/parsha-and-chulent/2025-10-02/
LOCATION:LINK Kollel\, 8666 W. Pico Blvd\, LOS ANGELES\, CA\, 90035\, United States
ATTACH;FMTTYPE=image/jpeg:https://linkla.org/wp-content/uploads/2022/03/IMG-20211019-WA0000.jpg
END:VEVENT
BEGIN:VEVENT
DTSTART;TZID=UTC:20250925T215500
DTEND;TZID=UTC:20250925T223000
DTSTAMP:20260422T222143
CREATED:20221227T200526Z
LAST-MODIFIED:20240522T205955Z
UID:10000696-1758837300-1758839400@linkla.org
SUMMARY:Parsha N' Chulent
DESCRIPTION:
URL:https://linkla.org/event/parsha-and-chulent/2025-09-25/
LOCATION:LINK Kollel\, 8666 W. Pico Blvd\, LOS ANGELES\, CA\, 90035\, United States
ATTACH;FMTTYPE=image/jpeg:https://linkla.org/wp-content/uploads/2022/03/IMG-20211019-WA0000.jpg
END:VEVENT
BEGIN:VEVENT
DTSTART;TZID=UTC:20250918T215500
DTEND;TZID=UTC:20250918T223000
DTSTAMP:20260422T222143
CREATED:20221227T200526Z
LAST-MODIFIED:20240522T205955Z
UID:10000695-1758232500-1758234600@linkla.org
SUMMARY:Parsha N' Chulent
DESCRIPTION:
URL:https://linkla.org/event/parsha-and-chulent/2025-09-18/
LOCATION:LINK Kollel\, 8666 W. Pico Blvd\, LOS ANGELES\, CA\, 90035\, United States
ATTACH;FMTTYPE=image/jpeg:https://linkla.org/wp-content/uploads/2022/03/IMG-20211019-WA0000.jpg
END:VEVENT
BEGIN:VEVENT
DTSTART;TZID=UTC:20250911T215500
DTEND;TZID=UTC:20250911T223000
DTSTAMP:20260422T222143
CREATED:20221227T200526Z
LAST-MODIFIED:20240522T205955Z
UID:10000694-1757627700-1757629800@linkla.org
SUMMARY:Parsha N' Chulent
DESCRIPTION:
URL:https://linkla.org/event/parsha-and-chulent/2025-09-11/
LOCATION:LINK Kollel\, 8666 W. Pico Blvd\, LOS ANGELES\, CA\, 90035\, United States
ATTACH;FMTTYPE=image/jpeg:https://linkla.org/wp-content/uploads/2022/03/IMG-20211019-WA0000.jpg
END:VEVENT
BEGIN:VEVENT
DTSTART;TZID=UTC:20250904T215500
DTEND;TZID=UTC:20250904T223000
DTSTAMP:20260422T222143
CREATED:20221227T200526Z
LAST-MODIFIED:20240522T205955Z
UID:10000693-1757022900-1757025000@linkla.org
SUMMARY:Parsha N' Chulent
DESCRIPTION:
URL:https://linkla.org/event/parsha-and-chulent/2025-09-04/
LOCATION:LINK Kollel\, 8666 W. Pico Blvd\, LOS ANGELES\, CA\, 90035\, United States
ATTACH;FMTTYPE=image/jpeg:https://linkla.org/wp-content/uploads/2022/03/IMG-20211019-WA0000.jpg
END:VEVENT
BEGIN:VEVENT
DTSTART;TZID=UTC:20250828T215500
DTEND;TZID=UTC:20250828T223000
DTSTAMP:20260422T222143
CREATED:20221227T200526Z
LAST-MODIFIED:20240522T205955Z
UID:10000692-1756418100-1756420200@linkla.org
SUMMARY:Parsha N' Chulent
DESCRIPTION:
URL:https://linkla.org/event/parsha-and-chulent/2025-08-28/
LOCATION:LINK Kollel\, 8666 W. Pico Blvd\, LOS ANGELES\, CA\, 90035\, United States
ATTACH;FMTTYPE=image/jpeg:https://linkla.org/wp-content/uploads/2022/03/IMG-20211019-WA0000.jpg
END:VEVENT
BEGIN:VEVENT
DTSTART;TZID=UTC:20250821T215500
DTEND;TZID=UTC:20250821T223000
DTSTAMP:20260422T222143
CREATED:20221227T200526Z
LAST-MODIFIED:20240522T205955Z
UID:10000691-1755813300-1755815400@linkla.org
SUMMARY:Parsha N' Chulent
DESCRIPTION:
URL:https://linkla.org/event/parsha-and-chulent/2025-08-21/
LOCATION:LINK Kollel\, 8666 W. Pico Blvd\, LOS ANGELES\, CA\, 90035\, United States
ATTACH;FMTTYPE=image/jpeg:https://linkla.org/wp-content/uploads/2022/03/IMG-20211019-WA0000.jpg
END:VEVENT
BEGIN:VEVENT
DTSTART;TZID=UTC:20250814T215500
DTEND;TZID=UTC:20250814T223000
DTSTAMP:20260422T222143
CREATED:20221227T200526Z
LAST-MODIFIED:20240522T205955Z
UID:10000690-1755208500-1755210600@linkla.org
SUMMARY:Parsha N' Chulent
DESCRIPTION:
URL:https://linkla.org/event/parsha-and-chulent/2025-08-14/
LOCATION:LINK Kollel\, 8666 W. Pico Blvd\, LOS ANGELES\, CA\, 90035\, United States
ATTACH;FMTTYPE=image/jpeg:https://linkla.org/wp-content/uploads/2022/03/IMG-20211019-WA0000.jpg
END:VEVENT
BEGIN:VEVENT
DTSTART;TZID=UTC:20250807T215500
DTEND;TZID=UTC:20250807T223000
DTSTAMP:20260422T222143
CREATED:20221227T200526Z
LAST-MODIFIED:20240522T205955Z
UID:10000689-1754603700-1754605800@linkla.org
SUMMARY:Parsha N' Chulent
DESCRIPTION:
URL:https://linkla.org/event/parsha-and-chulent/2025-08-07/
LOCATION:LINK Kollel\, 8666 W. Pico Blvd\, LOS ANGELES\, CA\, 90035\, United States
ATTACH;FMTTYPE=image/jpeg:https://linkla.org/wp-content/uploads/2022/03/IMG-20211019-WA0000.jpg
END:VEVENT
BEGIN:VEVENT
DTSTART;TZID=UTC:20250731T215500
DTEND;TZID=UTC:20250731T223000
DTSTAMP:20260422T222143
CREATED:20221227T200526Z
LAST-MODIFIED:20240522T205955Z
UID:10000688-1753998900-1754001000@linkla.org
SUMMARY:Parsha N' Chulent
DESCRIPTION:
URL:https://linkla.org/event/parsha-and-chulent/2025-07-31/
LOCATION:LINK Kollel\, 8666 W. Pico Blvd\, LOS ANGELES\, CA\, 90035\, United States
ATTACH;FMTTYPE=image/jpeg:https://linkla.org/wp-content/uploads/2022/03/IMG-20211019-WA0000.jpg
END:VEVENT
BEGIN:VEVENT
DTSTART;TZID=UTC:20250724T215500
DTEND;TZID=UTC:20250724T223000
DTSTAMP:20260422T222143
CREATED:20221227T200526Z
LAST-MODIFIED:20240522T205955Z
UID:10000687-1753394100-1753396200@linkla.org
SUMMARY:Parsha N' Chulent
DESCRIPTION:
URL:https://linkla.org/event/parsha-and-chulent/2025-07-24/
LOCATION:LINK Kollel\, 8666 W. Pico Blvd\, LOS ANGELES\, CA\, 90035\, United States
ATTACH;FMTTYPE=image/jpeg:https://linkla.org/wp-content/uploads/2022/03/IMG-20211019-WA0000.jpg
END:VEVENT
BEGIN:VEVENT
DTSTART;TZID=UTC:20250717T215500
DTEND;TZID=UTC:20250717T223000
DTSTAMP:20260422T222143
CREATED:20221227T200526Z
LAST-MODIFIED:20240522T205955Z
UID:10000686-1752789300-1752791400@linkla.org
SUMMARY:Parsha N' Chulent
DESCRIPTION:
URL:https://linkla.org/event/parsha-and-chulent/2025-07-17/
LOCATION:LINK Kollel\, 8666 W. Pico Blvd\, LOS ANGELES\, CA\, 90035\, United States
ATTACH;FMTTYPE=image/jpeg:https://linkla.org/wp-content/uploads/2022/03/IMG-20211019-WA0000.jpg
END:VEVENT
BEGIN:VEVENT
DTSTART;TZID=UTC:20250710T215500
DTEND;TZID=UTC:20250710T223000
DTSTAMP:20260422T222143
CREATED:20221227T200526Z
LAST-MODIFIED:20240522T205955Z
UID:10000685-1752184500-1752186600@linkla.org
SUMMARY:Parsha N' Chulent
DESCRIPTION:
URL:https://linkla.org/event/parsha-and-chulent/2025-07-10/
LOCATION:LINK Kollel\, 8666 W. Pico Blvd\, LOS ANGELES\, CA\, 90035\, United States
ATTACH;FMTTYPE=image/jpeg:https://linkla.org/wp-content/uploads/2022/03/IMG-20211019-WA0000.jpg
END:VEVENT
BEGIN:VEVENT
DTSTART;TZID=UTC:20250703T215500
DTEND;TZID=UTC:20250703T223000
DTSTAMP:20260422T222143
CREATED:20221227T200526Z
LAST-MODIFIED:20240522T205955Z
UID:10000684-1751579700-1751581800@linkla.org
SUMMARY:Parsha N' Chulent
DESCRIPTION:
URL:https://linkla.org/event/parsha-and-chulent/2025-07-03/
LOCATION:LINK Kollel\, 8666 W. Pico Blvd\, LOS ANGELES\, CA\, 90035\, United States
ATTACH;FMTTYPE=image/jpeg:https://linkla.org/wp-content/uploads/2022/03/IMG-20211019-WA0000.jpg
END:VEVENT
BEGIN:VEVENT
DTSTART;TZID=UTC:20250626T215500
DTEND;TZID=UTC:20250626T223000
DTSTAMP:20260422T222143
CREATED:20221227T200526Z
LAST-MODIFIED:20240522T205955Z
UID:10000683-1750974900-1750977000@linkla.org
SUMMARY:Parsha N' Chulent
DESCRIPTION:
URL:https://linkla.org/event/parsha-and-chulent/2025-06-26/
LOCATION:LINK Kollel\, 8666 W. Pico Blvd\, LOS ANGELES\, CA\, 90035\, United States
ATTACH;FMTTYPE=image/jpeg:https://linkla.org/wp-content/uploads/2022/03/IMG-20211019-WA0000.jpg
END:VEVENT
BEGIN:VEVENT
DTSTART;TZID=UTC:20250626T190000
DTEND;TZID=UTC:20250626T194000
DTSTAMP:20260422T222143
CREATED:20221227T200212Z
LAST-MODIFIED:20250205T012459Z
UID:10000943-1750964400-1750966800@linkla.org
SUMMARY:Boys Torah Night
DESCRIPTION:
URL:https://linkla.org/event/boys-torah-night/2025-06-26/
LOCATION:LINK Kollel\, 8666 W. Pico Blvd\, LOS ANGELES\, CA\, 90035\, United States
CATEGORIES:Recurring Programs and Classes
ATTACH;FMTTYPE=image/jpeg:https://linkla.org/wp-content/uploads/2022/12/2022.Torah-Night.jpeg
END:VEVENT
BEGIN:VEVENT
DTSTART;TZID=UTC:20250624T190000
DTEND;TZID=UTC:20250624T194000
DTSTAMP:20260422T222143
CREATED:20221227T200212Z
LAST-MODIFIED:20250205T012459Z
UID:10000942-1750791600-1750794000@linkla.org
SUMMARY:Boys Torah Night
DESCRIPTION:
URL:https://linkla.org/event/boys-torah-night/2025-06-24/
LOCATION:LINK Kollel\, 8666 W. Pico Blvd\, LOS ANGELES\, CA\, 90035\, United States
CATEGORIES:Recurring Programs and Classes
ATTACH;FMTTYPE=image/jpeg:https://linkla.org/wp-content/uploads/2022/12/2022.Torah-Night.jpeg
END:VEVENT
BEGIN:VEVENT
DTSTART;TZID=UTC:20250619T215500
DTEND;TZID=UTC:20250619T223000
DTSTAMP:20260422T222143
CREATED:20221227T200526Z
LAST-MODIFIED:20240522T205955Z
UID:10000682-1750370100-1750372200@linkla.org
SUMMARY:Parsha N' Chulent
DESCRIPTION:
URL:https://linkla.org/event/parsha-and-chulent/2025-06-19/
LOCATION:LINK Kollel\, 8666 W. Pico Blvd\, LOS ANGELES\, CA\, 90035\, United States
ATTACH;FMTTYPE=image/jpeg:https://linkla.org/wp-content/uploads/2022/03/IMG-20211019-WA0000.jpg
END:VEVENT
BEGIN:VEVENT
DTSTART;TZID=UTC:20250619T190000
DTEND;TZID=UTC:20250619T194000
DTSTAMP:20260422T222144
CREATED:20221227T200212Z
LAST-MODIFIED:20250205T012459Z
UID:10000941-1750359600-1750362000@linkla.org
SUMMARY:Boys Torah Night
DESCRIPTION:
URL:https://linkla.org/event/boys-torah-night/2025-06-19/
LOCATION:LINK Kollel\, 8666 W. Pico Blvd\, LOS ANGELES\, CA\, 90035\, United States
CATEGORIES:Recurring Programs and Classes
ATTACH;FMTTYPE=image/jpeg:https://linkla.org/wp-content/uploads/2022/12/2022.Torah-Night.jpeg
END:VEVENT
BEGIN:VEVENT
DTSTART;TZID=UTC:20250617T190000
DTEND;TZID=UTC:20250617T194000
DTSTAMP:20260422T222144
CREATED:20221227T200212Z
LAST-MODIFIED:20250205T012459Z
UID:10000940-1750186800-1750189200@linkla.org
SUMMARY:Boys Torah Night
DESCRIPTION:
URL:https://linkla.org/event/boys-torah-night/2025-06-17/
LOCATION:LINK Kollel\, 8666 W. Pico Blvd\, LOS ANGELES\, CA\, 90035\, United States
CATEGORIES:Recurring Programs and Classes
ATTACH;FMTTYPE=image/jpeg:https://linkla.org/wp-content/uploads/2022/12/2022.Torah-Night.jpeg
END:VEVENT
BEGIN:VEVENT
DTSTART;TZID=UTC:20250612T215500
DTEND;TZID=UTC:20250612T223000
DTSTAMP:20260422T222144
CREATED:20221227T200526Z
LAST-MODIFIED:20240522T205955Z
UID:10000681-1749765300-1749767400@linkla.org
SUMMARY:Parsha N' Chulent
DESCRIPTION:
URL:https://linkla.org/event/parsha-and-chulent/2025-06-12/
LOCATION:LINK Kollel\, 8666 W. Pico Blvd\, LOS ANGELES\, CA\, 90035\, United States
ATTACH;FMTTYPE=image/jpeg:https://linkla.org/wp-content/uploads/2022/03/IMG-20211019-WA0000.jpg
END:VEVENT
BEGIN:VEVENT
DTSTART;TZID=UTC:20250612T190000
DTEND;TZID=UTC:20250612T194000
DTSTAMP:20260422T222144
CREATED:20221227T200212Z
LAST-MODIFIED:20250205T012459Z
UID:10000939-1749754800-1749757200@linkla.org
SUMMARY:Boys Torah Night
DESCRIPTION:
URL:https://linkla.org/event/boys-torah-night/2025-06-12/
LOCATION:LINK Kollel\, 8666 W. Pico Blvd\, LOS ANGELES\, CA\, 90035\, United States
CATEGORIES:Recurring Programs and Classes
ATTACH;FMTTYPE=image/jpeg:https://linkla.org/wp-content/uploads/2022/12/2022.Torah-Night.jpeg
END:VEVENT
BEGIN:VEVENT
DTSTART;TZID=UTC:20250610T190000
DTEND;TZID=UTC:20250610T194000
DTSTAMP:20260422T222144
CREATED:20221227T200212Z
LAST-MODIFIED:20250205T012459Z
UID:10000938-1749582000-1749584400@linkla.org
SUMMARY:Boys Torah Night
DESCRIPTION:
URL:https://linkla.org/event/boys-torah-night/2025-06-10/
LOCATION:LINK Kollel\, 8666 W. Pico Blvd\, LOS ANGELES\, CA\, 90035\, United States
CATEGORIES:Recurring Programs and Classes
ATTACH;FMTTYPE=image/jpeg:https://linkla.org/wp-content/uploads/2022/12/2022.Torah-Night.jpeg
END:VEVENT
BEGIN:VEVENT
DTSTART;TZID=UTC:20250605T215500
DTEND;TZID=UTC:20250605T223000
DTSTAMP:20260422T222144
CREATED:20221227T200526Z
LAST-MODIFIED:20240522T205955Z
UID:10000680-1749160500-1749162600@linkla.org
SUMMARY:Parsha N' Chulent
DESCRIPTION:
URL:https://linkla.org/event/parsha-and-chulent/2025-06-05/
LOCATION:LINK Kollel\, 8666 W. Pico Blvd\, LOS ANGELES\, CA\, 90035\, United States
ATTACH;FMTTYPE=image/jpeg:https://linkla.org/wp-content/uploads/2022/03/IMG-20211019-WA0000.jpg
END:VEVENT
END:VCALENDAR