BEGIN:VCALENDAR
VERSION:2.0
PRODID:-//LINK Kollel - ECPv6.15.20//NONSGML v1.0//EN
CALSCALE:GREGORIAN
METHOD:PUBLISH
X-WR-CALNAME:LINK Kollel
X-ORIGINAL-URL:https://linkla.org
X-WR-CALDESC:Events for LINK Kollel
REFRESH-INTERVAL;VALUE=DURATION:PT1H
X-Robots-Tag:noindex
X-PUBLISHED-TTL:PT1H
BEGIN:VTIMEZONE
TZID:UTC
BEGIN:STANDARD
TZOFFSETFROM:+0000
TZOFFSETTO:+0000
TZNAME:UTC
DTSTART:20250101T000000
END:STANDARD
END:VTIMEZONE
BEGIN:VEVENT
DTSTART;TZID=UTC:20260730T215500
DTEND;TZID=UTC:20260730T223000
DTSTAMP:20260422T225501
CREATED:20221227T200526Z
LAST-MODIFIED:20240522T205955Z
UID:10000740-1785448500-1785450600@linkla.org
SUMMARY:Parsha N' Chulent
DESCRIPTION:
URL:https://linkla.org/event/parsha-and-chulent/2026-07-30/
LOCATION:LINK Kollel\, 8666 W. Pico Blvd\, LOS ANGELES\, CA\, 90035\, United States
ATTACH;FMTTYPE=image/jpeg:https://linkla.org/wp-content/uploads/2022/03/IMG-20211019-WA0000.jpg
END:VEVENT
BEGIN:VEVENT
DTSTART;TZID=UTC:20260806T215500
DTEND;TZID=UTC:20260806T223000
DTSTAMP:20260422T225501
CREATED:20221227T200526Z
LAST-MODIFIED:20240522T205955Z
UID:10000741-1786053300-1786055400@linkla.org
SUMMARY:Parsha N' Chulent
DESCRIPTION:
URL:https://linkla.org/event/parsha-and-chulent/2026-08-06/
LOCATION:LINK Kollel\, 8666 W. Pico Blvd\, LOS ANGELES\, CA\, 90035\, United States
ATTACH;FMTTYPE=image/jpeg:https://linkla.org/wp-content/uploads/2022/03/IMG-20211019-WA0000.jpg
END:VEVENT
BEGIN:VEVENT
DTSTART;TZID=UTC:20260813T215500
DTEND;TZID=UTC:20260813T223000
DTSTAMP:20260422T225501
CREATED:20221227T200526Z
LAST-MODIFIED:20240522T205955Z
UID:10000742-1786658100-1786660200@linkla.org
SUMMARY:Parsha N' Chulent
DESCRIPTION:
URL:https://linkla.org/event/parsha-and-chulent/2026-08-13/
LOCATION:LINK Kollel\, 8666 W. Pico Blvd\, LOS ANGELES\, CA\, 90035\, United States
ATTACH;FMTTYPE=image/jpeg:https://linkla.org/wp-content/uploads/2022/03/IMG-20211019-WA0000.jpg
END:VEVENT
BEGIN:VEVENT
DTSTART;TZID=UTC:20260820T215500
DTEND;TZID=UTC:20260820T223000
DTSTAMP:20260422T225501
CREATED:20221227T200526Z
LAST-MODIFIED:20240522T205955Z
UID:10000743-1787262900-1787265000@linkla.org
SUMMARY:Parsha N' Chulent
DESCRIPTION:
URL:https://linkla.org/event/parsha-and-chulent/2026-08-20/
LOCATION:LINK Kollel\, 8666 W. Pico Blvd\, LOS ANGELES\, CA\, 90035\, United States
ATTACH;FMTTYPE=image/jpeg:https://linkla.org/wp-content/uploads/2022/03/IMG-20211019-WA0000.jpg
END:VEVENT
BEGIN:VEVENT
DTSTART;TZID=UTC:20260827T215500
DTEND;TZID=UTC:20260827T223000
DTSTAMP:20260422T225501
CREATED:20221227T200526Z
LAST-MODIFIED:20240522T205955Z
UID:10000744-1787867700-1787869800@linkla.org
SUMMARY:Parsha N' Chulent
DESCRIPTION:
URL:https://linkla.org/event/parsha-and-chulent/2026-08-27/
LOCATION:LINK Kollel\, 8666 W. Pico Blvd\, LOS ANGELES\, CA\, 90035\, United States
ATTACH;FMTTYPE=image/jpeg:https://linkla.org/wp-content/uploads/2022/03/IMG-20211019-WA0000.jpg
END:VEVENT
BEGIN:VEVENT
DTSTART;TZID=UTC:20260903T215500
DTEND;TZID=UTC:20260903T223000
DTSTAMP:20260422T225501
CREATED:20221227T200526Z
LAST-MODIFIED:20240522T205955Z
UID:10000745-1788472500-1788474600@linkla.org
SUMMARY:Parsha N' Chulent
DESCRIPTION:
URL:https://linkla.org/event/parsha-and-chulent/2026-09-03/
LOCATION:LINK Kollel\, 8666 W. Pico Blvd\, LOS ANGELES\, CA\, 90035\, United States
ATTACH;FMTTYPE=image/jpeg:https://linkla.org/wp-content/uploads/2022/03/IMG-20211019-WA0000.jpg
END:VEVENT
BEGIN:VEVENT
DTSTART;TZID=UTC:20260910T215500
DTEND;TZID=UTC:20260910T223000
DTSTAMP:20260422T225501
CREATED:20221227T200526Z
LAST-MODIFIED:20240522T205955Z
UID:10000746-1789077300-1789079400@linkla.org
SUMMARY:Parsha N' Chulent
DESCRIPTION:
URL:https://linkla.org/event/parsha-and-chulent/2026-09-10/
LOCATION:LINK Kollel\, 8666 W. Pico Blvd\, LOS ANGELES\, CA\, 90035\, United States
ATTACH;FMTTYPE=image/jpeg:https://linkla.org/wp-content/uploads/2022/03/IMG-20211019-WA0000.jpg
END:VEVENT
BEGIN:VEVENT
DTSTART;TZID=UTC:20260917T215500
DTEND;TZID=UTC:20260917T223000
DTSTAMP:20260422T225501
CREATED:20221227T200526Z
LAST-MODIFIED:20240522T205955Z
UID:10000747-1789682100-1789684200@linkla.org
SUMMARY:Parsha N' Chulent
DESCRIPTION:
URL:https://linkla.org/event/parsha-and-chulent/2026-09-17/
LOCATION:LINK Kollel\, 8666 W. Pico Blvd\, LOS ANGELES\, CA\, 90035\, United States
ATTACH;FMTTYPE=image/jpeg:https://linkla.org/wp-content/uploads/2022/03/IMG-20211019-WA0000.jpg
END:VEVENT
BEGIN:VEVENT
DTSTART;TZID=UTC:20260924T215500
DTEND;TZID=UTC:20260924T223000
DTSTAMP:20260422T225501
CREATED:20221227T200526Z
LAST-MODIFIED:20240522T205955Z
UID:10000748-1790286900-1790289000@linkla.org
SUMMARY:Parsha N' Chulent
DESCRIPTION:
URL:https://linkla.org/event/parsha-and-chulent/2026-09-24/
LOCATION:LINK Kollel\, 8666 W. Pico Blvd\, LOS ANGELES\, CA\, 90035\, United States
ATTACH;FMTTYPE=image/jpeg:https://linkla.org/wp-content/uploads/2022/03/IMG-20211019-WA0000.jpg
END:VEVENT
BEGIN:VEVENT
DTSTART;TZID=UTC:20261001T215500
DTEND;TZID=UTC:20261001T223000
DTSTAMP:20260422T225501
CREATED:20221227T200526Z
LAST-MODIFIED:20240522T205955Z
UID:10000749-1790891700-1790893800@linkla.org
SUMMARY:Parsha N' Chulent
DESCRIPTION:
URL:https://linkla.org/event/parsha-and-chulent/2026-10-01/
LOCATION:LINK Kollel\, 8666 W. Pico Blvd\, LOS ANGELES\, CA\, 90035\, United States
ATTACH;FMTTYPE=image/jpeg:https://linkla.org/wp-content/uploads/2022/03/IMG-20211019-WA0000.jpg
END:VEVENT
BEGIN:VEVENT
DTSTART;TZID=UTC:20261008T215500
DTEND;TZID=UTC:20261008T223000
DTSTAMP:20260422T225501
CREATED:20221227T200526Z
LAST-MODIFIED:20240522T205955Z
UID:10000750-1791496500-1791498600@linkla.org
SUMMARY:Parsha N' Chulent
DESCRIPTION:
URL:https://linkla.org/event/parsha-and-chulent/2026-10-08/
LOCATION:LINK Kollel\, 8666 W. Pico Blvd\, LOS ANGELES\, CA\, 90035\, United States
ATTACH;FMTTYPE=image/jpeg:https://linkla.org/wp-content/uploads/2022/03/IMG-20211019-WA0000.jpg
END:VEVENT
BEGIN:VEVENT
DTSTART;TZID=UTC:20261015T215500
DTEND;TZID=UTC:20261015T223000
DTSTAMP:20260422T225501
CREATED:20221227T200526Z
LAST-MODIFIED:20240522T205955Z
UID:10000751-1792101300-1792103400@linkla.org
SUMMARY:Parsha N' Chulent
DESCRIPTION:
URL:https://linkla.org/event/parsha-and-chulent/2026-10-15/
LOCATION:LINK Kollel\, 8666 W. Pico Blvd\, LOS ANGELES\, CA\, 90035\, United States
ATTACH;FMTTYPE=image/jpeg:https://linkla.org/wp-content/uploads/2022/03/IMG-20211019-WA0000.jpg
END:VEVENT
BEGIN:VEVENT
DTSTART;TZID=UTC:20261022T215500
DTEND;TZID=UTC:20261022T223000
DTSTAMP:20260422T225501
CREATED:20221227T200526Z
LAST-MODIFIED:20240522T205955Z
UID:10000752-1792706100-1792708200@linkla.org
SUMMARY:Parsha N' Chulent
DESCRIPTION:
URL:https://linkla.org/event/parsha-and-chulent/2026-10-22/
LOCATION:LINK Kollel\, 8666 W. Pico Blvd\, LOS ANGELES\, CA\, 90035\, United States
ATTACH;FMTTYPE=image/jpeg:https://linkla.org/wp-content/uploads/2022/03/IMG-20211019-WA0000.jpg
END:VEVENT
BEGIN:VEVENT
DTSTART;TZID=UTC:20261029T215500
DTEND;TZID=UTC:20261029T223000
DTSTAMP:20260422T225501
CREATED:20221227T200526Z
LAST-MODIFIED:20240522T205955Z
UID:10000753-1793310900-1793313000@linkla.org
SUMMARY:Parsha N' Chulent
DESCRIPTION:
URL:https://linkla.org/event/parsha-and-chulent/2026-10-29/
LOCATION:LINK Kollel\, 8666 W. Pico Blvd\, LOS ANGELES\, CA\, 90035\, United States
ATTACH;FMTTYPE=image/jpeg:https://linkla.org/wp-content/uploads/2022/03/IMG-20211019-WA0000.jpg
END:VEVENT
BEGIN:VEVENT
DTSTART;TZID=UTC:20261105T215500
DTEND;TZID=UTC:20261105T223000
DTSTAMP:20260422T225501
CREATED:20221227T200526Z
LAST-MODIFIED:20240522T205955Z
UID:10000754-1793915700-1793917800@linkla.org
SUMMARY:Parsha N' Chulent
DESCRIPTION:
URL:https://linkla.org/event/parsha-and-chulent/2026-11-05/
LOCATION:LINK Kollel\, 8666 W. Pico Blvd\, LOS ANGELES\, CA\, 90035\, United States
ATTACH;FMTTYPE=image/jpeg:https://linkla.org/wp-content/uploads/2022/03/IMG-20211019-WA0000.jpg
END:VEVENT
BEGIN:VEVENT
DTSTART;TZID=UTC:20261112T215500
DTEND;TZID=UTC:20261112T223000
DTSTAMP:20260422T225501
CREATED:20221227T200526Z
LAST-MODIFIED:20240522T205955Z
UID:10000755-1794520500-1794522600@linkla.org
SUMMARY:Parsha N' Chulent
DESCRIPTION:
URL:https://linkla.org/event/parsha-and-chulent/2026-11-12/
LOCATION:LINK Kollel\, 8666 W. Pico Blvd\, LOS ANGELES\, CA\, 90035\, United States
ATTACH;FMTTYPE=image/jpeg:https://linkla.org/wp-content/uploads/2022/03/IMG-20211019-WA0000.jpg
END:VEVENT
BEGIN:VEVENT
DTSTART;TZID=UTC:20261119T215500
DTEND;TZID=UTC:20261119T223000
DTSTAMP:20260422T225501
CREATED:20221227T200526Z
LAST-MODIFIED:20240522T205955Z
UID:10000756-1795125300-1795127400@linkla.org
SUMMARY:Parsha N' Chulent
DESCRIPTION:
URL:https://linkla.org/event/parsha-and-chulent/2026-11-19/
LOCATION:LINK Kollel\, 8666 W. Pico Blvd\, LOS ANGELES\, CA\, 90035\, United States
ATTACH;FMTTYPE=image/jpeg:https://linkla.org/wp-content/uploads/2022/03/IMG-20211019-WA0000.jpg
END:VEVENT
BEGIN:VEVENT
DTSTART;TZID=UTC:20261126T215500
DTEND;TZID=UTC:20261126T223000
DTSTAMP:20260422T225501
CREATED:20221227T200526Z
LAST-MODIFIED:20240522T205955Z
UID:10000757-1795730100-1795732200@linkla.org
SUMMARY:Parsha N' Chulent
DESCRIPTION:
URL:https://linkla.org/event/parsha-and-chulent/2026-11-26/
LOCATION:LINK Kollel\, 8666 W. Pico Blvd\, LOS ANGELES\, CA\, 90035\, United States
ATTACH;FMTTYPE=image/jpeg:https://linkla.org/wp-content/uploads/2022/03/IMG-20211019-WA0000.jpg
END:VEVENT
BEGIN:VEVENT
DTSTART;TZID=UTC:20261203T215500
DTEND;TZID=UTC:20261203T223000
DTSTAMP:20260422T225501
CREATED:20221227T200526Z
LAST-MODIFIED:20240522T205955Z
UID:10000758-1796334900-1796337000@linkla.org
SUMMARY:Parsha N' Chulent
DESCRIPTION:
URL:https://linkla.org/event/parsha-and-chulent/2026-12-03/
LOCATION:LINK Kollel\, 8666 W. Pico Blvd\, LOS ANGELES\, CA\, 90035\, United States
ATTACH;FMTTYPE=image/jpeg:https://linkla.org/wp-content/uploads/2022/03/IMG-20211019-WA0000.jpg
END:VEVENT
BEGIN:VEVENT
DTSTART;TZID=UTC:20261210T215500
DTEND;TZID=UTC:20261210T223000
DTSTAMP:20260422T225501
CREATED:20221227T200526Z
LAST-MODIFIED:20240522T205955Z
UID:10000759-1796939700-1796941800@linkla.org
SUMMARY:Parsha N' Chulent
DESCRIPTION:
URL:https://linkla.org/event/parsha-and-chulent/2026-12-10/
LOCATION:LINK Kollel\, 8666 W. Pico Blvd\, LOS ANGELES\, CA\, 90035\, United States
ATTACH;FMTTYPE=image/jpeg:https://linkla.org/wp-content/uploads/2022/03/IMG-20211019-WA0000.jpg
END:VEVENT
BEGIN:VEVENT
DTSTART;TZID=UTC:20261217T215500
DTEND;TZID=UTC:20261217T223000
DTSTAMP:20260422T225501
CREATED:20221227T200526Z
LAST-MODIFIED:20240522T205955Z
UID:10000760-1797544500-1797546600@linkla.org
SUMMARY:Parsha N' Chulent
DESCRIPTION:
URL:https://linkla.org/event/parsha-and-chulent/2026-12-17/
LOCATION:LINK Kollel\, 8666 W. Pico Blvd\, LOS ANGELES\, CA\, 90035\, United States
ATTACH;FMTTYPE=image/jpeg:https://linkla.org/wp-content/uploads/2022/03/IMG-20211019-WA0000.jpg
END:VEVENT
BEGIN:VEVENT
DTSTART;TZID=UTC:20261224T215500
DTEND;TZID=UTC:20261224T223000
DTSTAMP:20260422T225501
CREATED:20221227T200526Z
LAST-MODIFIED:20240522T205955Z
UID:10000761-1798149300-1798151400@linkla.org
SUMMARY:Parsha N' Chulent
DESCRIPTION:
URL:https://linkla.org/event/parsha-and-chulent/2026-12-24/
LOCATION:LINK Kollel\, 8666 W. Pico Blvd\, LOS ANGELES\, CA\, 90035\, United States
ATTACH;FMTTYPE=image/jpeg:https://linkla.org/wp-content/uploads/2022/03/IMG-20211019-WA0000.jpg
END:VEVENT
BEGIN:VEVENT
DTSTART;TZID=UTC:20261231T215500
DTEND;TZID=UTC:20261231T223000
DTSTAMP:20260422T225501
CREATED:20221227T200526Z
LAST-MODIFIED:20240522T205955Z
UID:10000762-1798754100-1798756200@linkla.org
SUMMARY:Parsha N' Chulent
DESCRIPTION:
URL:https://linkla.org/event/parsha-and-chulent/2026-12-31/
LOCATION:LINK Kollel\, 8666 W. Pico Blvd\, LOS ANGELES\, CA\, 90035\, United States
ATTACH;FMTTYPE=image/jpeg:https://linkla.org/wp-content/uploads/2022/03/IMG-20211019-WA0000.jpg
END:VEVENT
BEGIN:VEVENT
DTSTART;TZID=UTC:20270107T215500
DTEND;TZID=UTC:20270107T223000
DTSTAMP:20260422T225501
CREATED:20221227T200526Z
LAST-MODIFIED:20240522T205955Z
UID:10000763-1799358900-1799361000@linkla.org
SUMMARY:Parsha N' Chulent
DESCRIPTION:
URL:https://linkla.org/event/parsha-and-chulent/2027-01-07/
LOCATION:LINK Kollel\, 8666 W. Pico Blvd\, LOS ANGELES\, CA\, 90035\, United States
ATTACH;FMTTYPE=image/jpeg:https://linkla.org/wp-content/uploads/2022/03/IMG-20211019-WA0000.jpg
END:VEVENT
BEGIN:VEVENT
DTSTART;TZID=UTC:20270114T215500
DTEND;TZID=UTC:20270114T223000
DTSTAMP:20260422T225501
CREATED:20221227T200526Z
LAST-MODIFIED:20240522T205955Z
UID:10000764-1799963700-1799965800@linkla.org
SUMMARY:Parsha N' Chulent
DESCRIPTION:
URL:https://linkla.org/event/parsha-and-chulent/2027-01-14/
LOCATION:LINK Kollel\, 8666 W. Pico Blvd\, LOS ANGELES\, CA\, 90035\, United States
ATTACH;FMTTYPE=image/jpeg:https://linkla.org/wp-content/uploads/2022/03/IMG-20211019-WA0000.jpg
END:VEVENT
BEGIN:VEVENT
DTSTART;TZID=UTC:20270121T215500
DTEND;TZID=UTC:20270121T223000
DTSTAMP:20260422T225501
CREATED:20221227T200526Z
LAST-MODIFIED:20240522T205955Z
UID:10000765-1800568500-1800570600@linkla.org
SUMMARY:Parsha N' Chulent
DESCRIPTION:
URL:https://linkla.org/event/parsha-and-chulent/2027-01-21/
LOCATION:LINK Kollel\, 8666 W. Pico Blvd\, LOS ANGELES\, CA\, 90035\, United States
ATTACH;FMTTYPE=image/jpeg:https://linkla.org/wp-content/uploads/2022/03/IMG-20211019-WA0000.jpg
END:VEVENT
BEGIN:VEVENT
DTSTART;TZID=UTC:20270128T215500
DTEND;TZID=UTC:20270128T223000
DTSTAMP:20260422T225501
CREATED:20221227T200526Z
LAST-MODIFIED:20240522T205955Z
UID:10000766-1801173300-1801175400@linkla.org
SUMMARY:Parsha N' Chulent
DESCRIPTION:
URL:https://linkla.org/event/parsha-and-chulent/2027-01-28/
LOCATION:LINK Kollel\, 8666 W. Pico Blvd\, LOS ANGELES\, CA\, 90035\, United States
ATTACH;FMTTYPE=image/jpeg:https://linkla.org/wp-content/uploads/2022/03/IMG-20211019-WA0000.jpg
END:VEVENT
BEGIN:VEVENT
DTSTART;TZID=UTC:20270204T215500
DTEND;TZID=UTC:20270204T223000
DTSTAMP:20260422T225501
CREATED:20221227T200526Z
LAST-MODIFIED:20240522T205955Z
UID:10000767-1801778100-1801780200@linkla.org
SUMMARY:Parsha N' Chulent
DESCRIPTION:
URL:https://linkla.org/event/parsha-and-chulent/2027-02-04/
LOCATION:LINK Kollel\, 8666 W. Pico Blvd\, LOS ANGELES\, CA\, 90035\, United States
ATTACH;FMTTYPE=image/jpeg:https://linkla.org/wp-content/uploads/2022/03/IMG-20211019-WA0000.jpg
END:VEVENT
BEGIN:VEVENT
DTSTART;TZID=UTC:20270211T215500
DTEND;TZID=UTC:20270211T223000
DTSTAMP:20260422T225501
CREATED:20221227T200526Z
LAST-MODIFIED:20240522T205955Z
UID:10000768-1802382900-1802385000@linkla.org
SUMMARY:Parsha N' Chulent
DESCRIPTION:
URL:https://linkla.org/event/parsha-and-chulent/2027-02-11/
LOCATION:LINK Kollel\, 8666 W. Pico Blvd\, LOS ANGELES\, CA\, 90035\, United States
ATTACH;FMTTYPE=image/jpeg:https://linkla.org/wp-content/uploads/2022/03/IMG-20211019-WA0000.jpg
END:VEVENT
BEGIN:VEVENT
DTSTART;TZID=UTC:20270218T215500
DTEND;TZID=UTC:20270218T223000
DTSTAMP:20260422T225502
CREATED:20221227T200526Z
LAST-MODIFIED:20240522T205955Z
UID:10000769-1802987700-1802989800@linkla.org
SUMMARY:Parsha N' Chulent
DESCRIPTION:
URL:https://linkla.org/event/parsha-and-chulent/2027-02-18/
LOCATION:LINK Kollel\, 8666 W. Pico Blvd\, LOS ANGELES\, CA\, 90035\, United States
ATTACH;FMTTYPE=image/jpeg:https://linkla.org/wp-content/uploads/2022/03/IMG-20211019-WA0000.jpg
END:VEVENT
END:VCALENDAR